Package: rtracklayer Version: 1.66.0 Command: /home/biocbuild/R/R/bin/R CMD build --keep-empty-dirs --no-resave-data rtracklayer StartedAt: 2025-01-31 02:20:25 -0000 (Fri, 31 Jan 2025) EndedAt: 2025-01-31 02:22:05 -0000 (Fri, 31 Jan 2025) EllapsedTime: 100.1 seconds RetCode: 0 Status: OK PackageFile: rtracklayer_1.66.0.tar.gz PackageFileSize: 3.907 MiB