Package: rtracklayer Version: 1.66.0 Command: rm -rf rtracklayer.buildbin-libdir && mkdir rtracklayer.buildbin-libdir && F:\biocbuild\bbs-3.20-bioc\R\bin\R.exe CMD INSTALL --build --library=rtracklayer.buildbin-libdir rtracklayer_1.66.0.tar.gz StartedAt: 2025-04-01 09:06:37 -0400 (Tue, 01 Apr 2025) EndedAt: 2025-04-01 09:12:07 -0400 (Tue, 01 Apr 2025) EllapsedTime: 330.3 seconds RetCode: 0 Status: OK PackageFile: rtracklayer_1.66.0.zip PackageFileSize: 9.408 MiB