Package: rtracklayer Version: 1.66.0 Command: /home/biocbuild/bbs-3.20-bioc/R/bin/R CMD INSTALL rtracklayer StartedAt: 2025-02-03 15:29:22 -0500 (Mon, 03 Feb 2025) EndedAt: 2025-02-03 15:30:12 -0500 (Mon, 03 Feb 2025) EllapsedTime: 49.9 seconds RetCode: 0 Status: OK