Package: rtracklayer Version: 1.66.0 Command: rm -rf rtracklayer.buildbin-libdir && mkdir rtracklayer.buildbin-libdir && /Users/biocbuild/BBS/utils/build-universal.sh rtracklayer_1.66.0.tar.gz /Library/Frameworks/R.framework/Resources/bin/R rtracklayer.buildbin-libdir StartedAt: 2025-04-01 12:39:36 -0400 (Tue, 01 Apr 2025) EndedAt: 2025-04-01 12:41:35 -0400 (Tue, 01 Apr 2025) EllapsedTime: 119.1 seconds RetCode: 0 Status: OK PackageFile: rtracklayer_1.66.0.tgz PackageFileSize: 7.461 MiB