Package: rsemmed Version: 1.16.0 Command: /home/biocbuild/bbs-3.20-bioc/R/bin/R CMD INSTALL rsemmed StartedAt: 2025-03-31 15:12:53 -0400 (Mon, 31 Mar 2025) EndedAt: 2025-03-31 15:13:09 -0400 (Mon, 31 Mar 2025) EllapsedTime: 16.9 seconds RetCode: 0 Status: OK