Package: rsemmed Version: 1.16.0 Command: /Library/Frameworks/R.framework/Resources/bin/R CMD INSTALL rsemmed StartedAt: 2025-03-31 15:16:32 -0400 (Mon, 31 Mar 2025) EndedAt: 2025-03-31 15:16:37 -0400 (Mon, 31 Mar 2025) EllapsedTime: 5.5 seconds RetCode: 0 Status: OK