Package: rrvgo Version: 1.18.0 Command: /home/biocbuild/R/R/bin/R CMD build --keep-empty-dirs --no-resave-data rrvgo StartedAt: 2025-04-01 02:14:03 -0000 (Tue, 01 Apr 2025) EndedAt: 2025-04-01 02:17:29 -0000 (Tue, 01 Apr 2025) EllapsedTime: 206.1 seconds RetCode: 0 Status: OK PackageFile: rrvgo_1.18.0.tar.gz PackageFileSize: 1.546 MiB