Package: rrvgo Version: 1.18.0 Command: chmod a+r rrvgo -R && F:\biocbuild\bbs-3.20-bioc\R\bin\R.exe CMD build --keep-empty-dirs --no-resave-data rrvgo StartedAt: 2025-01-30 21:31:11 -0500 (Thu, 30 Jan 2025) EndedAt: 2025-01-30 21:34:19 -0500 (Thu, 30 Jan 2025) EllapsedTime: 188.1 seconds RetCode: 0 Status: OK PackageFile: rrvgo_1.18.0.tar.gz PackageFileSize: 1.546 MiB