Package: rqubic Version: 1.52.0 Command: /home/biocbuild/R/R/bin/R CMD INSTALL rqubic StartedAt: 2025-01-30 20:58:29 -0000 (Thu, 30 Jan 2025) EndedAt: 2025-01-30 20:58:40 -0000 (Thu, 30 Jan 2025) EllapsedTime: 10.3 seconds RetCode: 0 Status: OK