Package: rqubic Version: 1.52.0 Command: /Library/Frameworks/R.framework/Resources/bin/R CMD check --install=check:rqubic.install-out.txt --library=/Library/Frameworks/R.framework/Resources/library --no-vignettes --timings rqubic_1.52.0.tar.gz StartedAt: 2025-04-01 08:20:39 -0400 (Tue, 01 Apr 2025) EndedAt: 2025-04-01 08:22:38 -0400 (Tue, 01 Apr 2025) EllapsedTime: 118.5 seconds RetCode: 0 Status: OK CheckDir: rqubic.Rcheck Warnings: 0