Package: rqt Version: 1.32.0 Command: /home/biocbuild/R/R/bin/R CMD INSTALL rqt StartedAt: 2025-02-03 21:15:45 -0000 (Mon, 03 Feb 2025) EndedAt: 2025-02-03 21:16:18 -0000 (Mon, 03 Feb 2025) EllapsedTime: 33.1 seconds RetCode: 0 Status: OK