Package: rqt Version: 1.32.0 Command: /home/biocbuild/R/R/bin/R CMD build --keep-empty-dirs --no-resave-data rqt StartedAt: 2025-02-04 02:26:49 -0000 (Tue, 04 Feb 2025) EndedAt: 2025-02-04 02:27:47 -0000 (Tue, 04 Feb 2025) EllapsedTime: 58.1 seconds RetCode: 0 Status: OK PackageFile: rqt_1.32.0.tar.gz PackageFileSize: 564.8 KiB