Package: rqt Version: 1.32.0 Command: rm -rf rqt.buildbin-libdir && mkdir rqt.buildbin-libdir && /Users/biocbuild/BBS/utils/build-universal.sh rqt_1.32.0.tar.gz /Library/Frameworks/R.framework/Resources/bin/R rqt.buildbin-libdir StartedAt: 2025-01-31 13:34:48 -0500 (Fri, 31 Jan 2025) EndedAt: 2025-01-31 13:35:50 -0500 (Fri, 31 Jan 2025) EllapsedTime: 62.4 seconds RetCode: 0 Status: OK PackageFile: rqt_1.32.0.tgz PackageFileSize: 909.9 KiB