Package: rqt Version: 1.32.0 Command: /home/biocbuild/R/R/bin/R CMD check --install=check:rqt.install-out.txt --library=/home/biocbuild/R/R/site-library --no-vignettes --timings rqt_1.32.0.tar.gz StartedAt: 2024-11-20 11:53:18 -0000 (Wed, 20 Nov 2024) EndedAt: 2024-11-20 11:57:13 -0000 (Wed, 20 Nov 2024) EllapsedTime: 234.5 seconds RetCode: 0 Status: OK CheckDir: rqt.Rcheck Warnings: 0