Package: rqt Version: 1.32.0 Command: /Library/Frameworks/R.framework/Resources/bin/R CMD INSTALL rqt StartedAt: 2025-03-31 17:54:10 -0400 (Mon, 31 Mar 2025) EndedAt: 2025-03-31 17:54:41 -0400 (Mon, 31 Mar 2025) EllapsedTime: 31.3 seconds RetCode: 0 Status: OK