Package: rpx Version: 2.14.0 Command: rm -rf rpx.buildbin-libdir && mkdir rpx.buildbin-libdir && F:\biocbuild\bbs-3.20-bioc\R\bin\R.exe CMD INSTALL --build --library=rpx.buildbin-libdir rpx_2.14.0.tar.gz StartedAt: 2025-01-28 09:01:10 -0500 (Tue, 28 Jan 2025) EndedAt: 2025-01-28 09:01:26 -0500 (Tue, 28 Jan 2025) EllapsedTime: 16.5 seconds RetCode: 0 Status: OK PackageFile: rpx_2.14.0.zip PackageFileSize: 486 KiB