Package: rpx Version: 2.14.0 Command: /Library/Frameworks/R.framework/Resources/bin/R CMD check --install=check:rpx.install-out.txt --library=/Library/Frameworks/R.framework/Resources/library --no-vignettes --timings rpx_2.14.0.tar.gz StartedAt: 2025-01-29 07:07:29 -0500 (Wed, 29 Jan 2025) EndedAt: 2025-01-29 07:08:30 -0500 (Wed, 29 Jan 2025) EllapsedTime: 61.8 seconds RetCode: 0 Status: OK CheckDir: rpx.Rcheck Warnings: 0