Package: ropls Version: 1.38.0 Command: rm -rf ropls.buildbin-libdir && mkdir ropls.buildbin-libdir && F:\biocbuild\bbs-3.20-bioc\R\bin\R.exe CMD INSTALL --build --library=ropls.buildbin-libdir ropls_1.38.0.tar.gz StartedAt: 2025-01-28 09:00:52 -0500 (Tue, 28 Jan 2025) EndedAt: 2025-01-28 09:01:49 -0500 (Tue, 28 Jan 2025) EllapsedTime: 57.2 seconds RetCode: 0 Status: OK PackageFile: ropls_1.38.0.zip PackageFileSize: 4.573 MiB