Package: ropls Version: 1.38.0 Command: rm -rf ropls.buildbin-libdir && mkdir ropls.buildbin-libdir && /Users/biocbuild/BBS/utils/build-universal.sh ropls_1.38.0.tar.gz /Library/Frameworks/R.framework/Resources/bin/R ropls.buildbin-libdir StartedAt: 2025-01-28 14:25:08 -0500 (Tue, 28 Jan 2025) EndedAt: 2025-01-28 14:26:36 -0500 (Tue, 28 Jan 2025) EllapsedTime: 88.6 seconds RetCode: 0 Status: OK PackageFile: ropls_1.38.0.tgz PackageFileSize: 6.072 MiB