Package: ropls Version: 1.38.0 Command: /Library/Frameworks/R.framework/Resources/bin/R CMD build --keep-empty-dirs --no-resave-data ropls StartedAt: 2025-01-28 06:47:45 -0500 (Tue, 28 Jan 2025) EndedAt: 2025-01-28 06:49:10 -0500 (Tue, 28 Jan 2025) EllapsedTime: 84.4 seconds RetCode: 0 Status: OK PackageFile: ropls_1.38.0.tar.gz PackageFileSize: 5.542 MiB