Package: ropls Version: 1.38.0 Command: rm -rf ropls.buildbin-libdir && mkdir ropls.buildbin-libdir && /Users/biocbuild/BBS/utils/build-universal.sh ropls_1.38.0.tar.gz /Library/Frameworks/R.framework/Resources/bin/R ropls.buildbin-libdir StartedAt: 2025-01-29 16:19:56 -0500 (Wed, 29 Jan 2025) EndedAt: 2025-01-29 16:20:33 -0500 (Wed, 29 Jan 2025) EllapsedTime: 37.2 seconds RetCode: 0 Status: OK PackageFile: ropls_1.38.0.tgz PackageFileSize: 6.071 MiB