Package: rols Version: 3.2.0 Command: rm -rf rols.buildbin-libdir && mkdir rols.buildbin-libdir && F:\biocbuild\bbs-3.20-bioc\R\bin\R.exe CMD INSTALL --build --library=rols.buildbin-libdir rols_3.2.0.tar.gz StartedAt: 2025-02-04 09:22:57 -0500 (Tue, 04 Feb 2025) EndedAt: 2025-02-04 09:23:31 -0500 (Tue, 04 Feb 2025) EllapsedTime: 33.1 seconds RetCode: 0 Status: OK PackageFile: rols_3.2.0.zip PackageFileSize: 655.4 KiB