Package: rols Version: 3.2.0 Command: /home/biocbuild/bbs-3.20-bioc/R/bin/R CMD INSTALL rols StartedAt: 2025-01-27 16:01:07 -0500 (Mon, 27 Jan 2025) EndedAt: 2025-01-27 16:01:13 -0500 (Mon, 27 Jan 2025) EllapsedTime: 5.4 seconds RetCode: 0 Status: OK