Package: rols Version: 3.2.0 Command: /Library/Frameworks/R.framework/Resources/bin/R CMD INSTALL rols StartedAt: 2025-01-27 15:16:04 -0500 (Mon, 27 Jan 2025) EndedAt: 2025-01-27 15:16:20 -0500 (Mon, 27 Jan 2025) EllapsedTime: 16.1 seconds RetCode: 0 Status: OK