Package: rols Version: 3.2.0 Command: /Library/Frameworks/R.framework/Resources/bin/R CMD check --install=check:rols.install-out.txt --library=/Library/Frameworks/R.framework/Resources/library --no-vignettes --timings rols_3.2.0.tar.gz StartedAt: 2025-01-28 09:23:01 -0500 (Tue, 28 Jan 2025) EndedAt: 2025-01-28 09:24:49 -0500 (Tue, 28 Jan 2025) EllapsedTime: 107.7 seconds RetCode: 1 Status: ERROR CheckDir: rols.Rcheck Warnings: NA