Package: rols Version: 3.2.0 Command: /home/biocbuild/R/R/bin/R CMD check --install=check:rols.install-out.txt --library=/home/biocbuild/R/R/site-library --no-vignettes --timings rols_3.2.0.tar.gz StartedAt: 2024-11-20 11:50:03 -0000 (Wed, 20 Nov 2024) EndedAt: 2024-11-20 11:53:31 -0000 (Wed, 20 Nov 2024) EllapsedTime: 208.3 seconds RetCode: 0 Status: OK CheckDir: rols.Rcheck Warnings: 0