Package: roastgsa Version: 1.4.0 Command: /home/biocbuild/R/R/bin/R CMD build --keep-empty-dirs --no-resave-data roastgsa StartedAt: 2025-02-11 02:03:24 -0000 (Tue, 11 Feb 2025) EndedAt: 2025-02-11 02:05:24 -0000 (Tue, 11 Feb 2025) EllapsedTime: 120.0 seconds RetCode: 0 Status: OK PackageFile: roastgsa_1.4.0.tar.gz PackageFileSize: 1.489 MiB