Package: roastgsa Version: 1.4.0 Command: /Library/Frameworks/R.framework/Resources/bin/R CMD build --keep-empty-dirs --no-resave-data roastgsa StartedAt: 2025-02-10 21:50:32 -0500 (Mon, 10 Feb 2025) EndedAt: 2025-02-10 21:53:18 -0500 (Mon, 10 Feb 2025) EllapsedTime: 165.7 seconds RetCode: 0 Status: OK PackageFile: roastgsa_1.4.0.tar.gz PackageFileSize: 2.155 MiB