Package: roastgsa Version: 1.4.0 Command: rm -rf roastgsa.buildbin-libdir && mkdir roastgsa.buildbin-libdir && /Users/biocbuild/BBS/utils/build-universal.sh roastgsa_1.4.0.tar.gz /Library/Frameworks/R.framework/Resources/bin/R roastgsa.buildbin-libdir StartedAt: 2025-02-11 14:21:45 -0500 (Tue, 11 Feb 2025) EndedAt: 2025-02-11 14:22:08 -0500 (Tue, 11 Feb 2025) EllapsedTime: 23.2 seconds RetCode: 0 Status: OK PackageFile: roastgsa_1.4.0.tgz PackageFileSize: 2.282 MiB