Package: roar Version: 1.42.0 Command: /home/biocbuild/R/R/bin/R CMD build --keep-empty-dirs --no-resave-data roar StartedAt: 2025-01-28 02:54:22 -0000 (Tue, 28 Jan 2025) EndedAt: 2025-01-28 02:56:43 -0000 (Tue, 28 Jan 2025) EllapsedTime: 141.1 seconds RetCode: 0 Status: OK PackageFile: roar_1.42.0.tar.gz PackageFileSize: 889.6 KiB