Package: roar Version: 1.42.0 Command: F:\biocbuild\bbs-3.20-bioc\R\bin\R.exe CMD INSTALL roar StartedAt: 2025-01-27 16:07:34 -0500 (Mon, 27 Jan 2025) EndedAt: 2025-01-27 16:08:24 -0500 (Mon, 27 Jan 2025) EllapsedTime: 49.4 seconds RetCode: 0 Status: OK