Package: roar Version: 1.42.0 Command: /home/biocbuild/bbs-3.20-bioc/R/bin/R CMD check --install=check:roar.install-out.txt --library=/home/biocbuild/bbs-3.20-bioc/R/site-library --timings roar_1.42.0.tar.gz StartedAt: 2025-02-04 01:55:21 -0500 (Tue, 04 Feb 2025) EndedAt: 2025-02-04 02:00:22 -0500 (Tue, 04 Feb 2025) EllapsedTime: 301.3 seconds RetCode: 0 Status: OK CheckDir: roar.Rcheck Warnings: 0