Package: roar Version: 1.42.0 Command: /Library/Frameworks/R.framework/Resources/bin/R CMD INSTALL roar StartedAt: 2025-01-27 15:37:44 -0500 (Mon, 27 Jan 2025) EndedAt: 2025-01-27 15:38:54 -0500 (Mon, 27 Jan 2025) EllapsedTime: 70.2 seconds RetCode: 0 Status: OK