Package: rnaseqcomp Version: 1.36.0 Command: /home/biocbuild/R/R/bin/R CMD INSTALL rnaseqcomp StartedAt: 2025-03-31 21:10:45 -0000 (Mon, 31 Mar 2025) EndedAt: 2025-03-31 21:10:49 -0000 (Mon, 31 Mar 2025) EllapsedTime: 4.0 seconds RetCode: 0 Status: OK