Package: rnaseqcomp Version: 1.36.0 Command: /home/biocbuild/R/R/bin/R CMD build --keep-empty-dirs --no-resave-data rnaseqcomp StartedAt: 2025-01-31 02:15:06 -0000 (Fri, 31 Jan 2025) EndedAt: 2025-01-31 02:15:31 -0000 (Fri, 31 Jan 2025) EllapsedTime: 25.0 seconds RetCode: 0 Status: OK PackageFile: rnaseqcomp_1.36.0.tar.gz PackageFileSize: 1.362 MiB