Package: rnaseqcomp Version: 1.36.0 Command: F:\biocbuild\bbs-3.20-bioc\R\bin\R.exe CMD INSTALL rnaseqcomp StartedAt: 2025-03-31 17:05:11 -0400 (Mon, 31 Mar 2025) EndedAt: 2025-03-31 17:05:22 -0400 (Mon, 31 Mar 2025) EllapsedTime: 10.9 seconds RetCode: 0 Status: OK