Package: rnaseqcomp Version: 1.36.0 Command: F:\biocbuild\bbs-3.20-bioc\R\bin\R.exe CMD check --no-multiarch --install=check:rnaseqcomp.install-out.txt --library=F:\biocbuild\bbs-3.20-bioc\R\library --no-vignettes --timings rnaseqcomp_1.36.0.tar.gz StartedAt: 2025-04-01 05:21:23 -0400 (Tue, 01 Apr 2025) EndedAt: 2025-04-01 05:22:20 -0400 (Tue, 01 Apr 2025) EllapsedTime: 56.4 seconds RetCode: 0 Status: OK CheckDir: rnaseqcomp.Rcheck Warnings: 0