Package: rnaseqcomp Version: 1.36.0 Command: /Library/Frameworks/R.framework/Resources/bin/R CMD build --keep-empty-dirs --no-resave-data rnaseqcomp StartedAt: 2025-04-01 06:28:50 -0400 (Tue, 01 Apr 2025) EndedAt: 2025-04-01 06:29:17 -0400 (Tue, 01 Apr 2025) EllapsedTime: 27.5 seconds RetCode: 0 Status: OK PackageFile: rnaseqcomp_1.36.0.tar.gz PackageFileSize: 1.531 MiB