Package: rnaEditr Version: 1.16.0 Command: rm -rf rnaEditr.buildbin-libdir && mkdir rnaEditr.buildbin-libdir && F:\biocbuild\bbs-3.20-bioc\R\bin\R.exe CMD INSTALL --build --library=rnaEditr.buildbin-libdir rnaEditr_1.16.0.tar.gz StartedAt: 2025-01-28 08:59:58 -0500 (Tue, 28 Jan 2025) EndedAt: 2025-01-28 09:00:51 -0500 (Tue, 28 Jan 2025) EllapsedTime: 52.6 seconds RetCode: 0 Status: OK PackageFile: rnaEditr_1.16.0.zip PackageFileSize: 1.016 MiB