Package: rnaEditr Version: 1.16.0 Command: /home/biocbuild/bbs-3.20-bioc/R/bin/R CMD build --keep-empty-dirs --no-resave-data --md5 rnaEditr StartedAt: 2025-03-31 18:50:01 -0400 (Mon, 31 Mar 2025) EndedAt: 2025-03-31 18:50:55 -0400 (Mon, 31 Mar 2025) EllapsedTime: 54.0 seconds RetCode: 0 Status: OK PackageFile: rnaEditr_1.16.0.tar.gz PackageFileSize: 1.079 MiB