Package: rnaEditr Version: 1.16.0 Command: /Library/Frameworks/R.framework/Resources/bin/R CMD build --keep-empty-dirs --no-resave-data rnaEditr StartedAt: 2025-04-01 06:24:00 -0400 (Tue, 01 Apr 2025) EndedAt: 2025-04-01 06:25:08 -0400 (Tue, 01 Apr 2025) EllapsedTime: 68.3 seconds RetCode: 0 Status: OK PackageFile: rnaEditr_1.16.0.tar.gz PackageFileSize: 1.085 MiB