Package: rmelting Version: 1.22.0 Command: /home/biocbuild/R/R/bin/R CMD INSTALL rmelting StartedAt: 2025-02-03 20:26:27 -0000 (Mon, 03 Feb 2025) EndedAt: 2025-02-03 20:26:54 -0000 (Mon, 03 Feb 2025) EllapsedTime: 27.5 seconds RetCode: 0 Status: OK