Package: rifiComparative Version: 1.6.0 Command: /home/biocbuild/R/R/bin/R CMD build --keep-empty-dirs --no-resave-data rifiComparative StartedAt: 2025-01-31 02:11:08 -0000 (Fri, 31 Jan 2025) EndedAt: 2025-01-31 02:19:48 -0000 (Fri, 31 Jan 2025) EllapsedTime: 519.6 seconds RetCode: 0 Status: OK PackageFile: rifiComparative_1.6.0.tar.gz PackageFileSize: 3.212 MiB