Package: rifi Version: 1.10.0 Command: /home/biocbuild/R/R/bin/R CMD INSTALL rifi StartedAt: 2025-03-31 20:53:19 -0000 (Mon, 31 Mar 2025) EndedAt: 2025-03-31 20:54:07 -0000 (Mon, 31 Mar 2025) EllapsedTime: 47.9 seconds RetCode: 0 Status: OK