Package: rifi Version: 1.10.0 Command: /home/biocbuild/R/R/bin/R CMD check --install=check:rifi.install-out.txt --library=/home/biocbuild/R/R/site-library --no-vignettes --timings rifi_1.10.0.tar.gz StartedAt: 2025-01-28 10:36:12 -0000 (Tue, 28 Jan 2025) EndedAt: 2025-01-28 11:16:13 -0000 (Tue, 28 Jan 2025) EllapsedTime: 2400.5 seconds RetCode: None Status: TIMEOUT CheckDir: rifi.Rcheck Warnings: NA