Package: rifi Version: 1.10.0 Command: /Library/Frameworks/R.framework/Resources/bin/R CMD INSTALL rifi StartedAt: 2025-01-27 16:16:36 -0500 (Mon, 27 Jan 2025) EndedAt: 2025-01-27 16:18:01 -0500 (Mon, 27 Jan 2025) EllapsedTime: 84.6 seconds RetCode: 0 Status: OK