Package: rifi Version: 1.10.0 Command: /Library/Frameworks/R.framework/Resources/bin/R CMD INSTALL rifi StartedAt: 2024-11-08 15:38:33 -0500 (Fri, 08 Nov 2024) EndedAt: 2024-11-08 15:38:47 -0500 (Fri, 08 Nov 2024) EllapsedTime: 13.8 seconds RetCode: 0 Status: OK