Package: rifi Version: 1.10.0 Command: /Library/Frameworks/R.framework/Resources/bin/R CMD check --install=check:rifi.install-out.txt --library=/Library/Frameworks/R.framework/Resources/library --no-vignettes --timings rifi_1.10.0.tar.gz StartedAt: 2025-01-29 06:34:58 -0500 (Wed, 29 Jan 2025) EndedAt: 2025-01-29 06:44:53 -0500 (Wed, 29 Jan 2025) EllapsedTime: 594.2 seconds RetCode: 0 Status: WARNINGS CheckDir: rifi.Rcheck Warnings: 2