Package: ribor Version: 1.18.0 Command: /home/biocbuild/R/R/bin/R CMD INSTALL ribor StartedAt: 2025-01-27 21:10:08 -0000 (Mon, 27 Jan 2025) EndedAt: 2025-01-27 21:10:19 -0000 (Mon, 27 Jan 2025) EllapsedTime: 10.7 seconds RetCode: 0 Status: OK