Package: ribor Version: 1.18.0 Command: /home/biocbuild/R/R/bin/R CMD build --keep-empty-dirs --no-resave-data ribor StartedAt: 2025-01-28 02:47:32 -0000 (Tue, 28 Jan 2025) EndedAt: 2025-01-28 02:48:54 -0000 (Tue, 28 Jan 2025) EllapsedTime: 82.0 seconds RetCode: 0 Status: OK PackageFile: ribor_1.18.0.tar.gz PackageFileSize: 4.112 MiB